BEGIN:VCALENDAR
VERSION:2.0
PRODID:-//Lafayette-Orinda Presbyterian Church - ECPv6.15.4//NONSGML v1.0//EN
CALSCALE:GREGORIAN
METHOD:PUBLISH
X-ORIGINAL-URL:https://lopc.org
X-WR-CALDESC:Events for Lafayette-Orinda Presbyterian Church
REFRESH-INTERVAL;VALUE=DURATION:PT1H
X-Robots-Tag:noindex
X-PUBLISHED-TTL:PT1H
BEGIN:VTIMEZONE
TZID:America/Los_Angeles
BEGIN:DAYLIGHT
TZOFFSETFROM:-0800
TZOFFSETTO:-0700
TZNAME:PDT
DTSTART:20260308T100000
END:DAYLIGHT
BEGIN:STANDARD
TZOFFSETFROM:-0700
TZOFFSETTO:-0800
TZNAME:PST
DTSTART:20261101T090000
END:STANDARD
END:VTIMEZONE
BEGIN:VEVENT
DTSTART;TZID=America/Los_Angeles:20260422T143000
DTEND;TZID=America/Los_Angeles:20260422T171500
DTSTAMP:20260423T021143
CREATED:20260402T184538Z
LAST-MODIFIED:20260402T184935Z
UID:42621-1776868200-1776878100@lopc.org
SUMMARY:Crafternoon for Vacation Bible Camp
DESCRIPTION:Join us for Crafternoon\, a Children’s Ministry program where we make scenery & props for Vacation Bible Camp! \nAll are welcome\, though we ask if you are bringing someone under 18\, that a parent or guardian chaperone that crafter. In addition to our vibrant Rainforest projects\, we will enjoy fellowship and tasty snacks. \nMaterials are provided and there are projects for every skill level. \nAdvance registration is requested at www.lopc.org/registrations. Contact Susan Wentworth for more information.
URL:https://lopc.org/event/crafternoon/2026-04-22/
LOCATION:Lafayette-Orinda Presbyterian Church: 49 Knox Drive Lafayette CA 94549
CATEGORIES:Children's Ministry,latest,Registrations
ATTACH;FMTTYPE=image/png:https://lopc.org/wp-content/uploads/2026/04/Copy-of-JOIN-US-Youtube-Banner.png
ORGANIZER;CN="Emily Austin":MAILTO:emily@lopc.org
END:VEVENT
BEGIN:VEVENT
DTSTART;TZID=America/Los_Angeles:20260419T180000
DTEND;TZID=America/Los_Angeles:20260419T200000
DTSTAMP:20260423T021143
CREATED:20240729T220617Z
LAST-MODIFIED:20240729T220617Z
UID:40798-1776621600-1776628800@lopc.org
SUMMARY:BTW: By The Way
DESCRIPTION:BTW is LOPC’s ministry for high school youth and meets on Sunday evenings in CLC 201 from 6:00–8:00 p.m. Optional pizza dinner for $5 at 5:45 p.m. in Davies Room.
URL:https://lopc.org/event/btw-by-the-way-2/2026-04-19/
LOCATION:Lafayette-Orinda Presbyterian Church: 49 Knox Drive Lafayette CA 94549
CATEGORIES:Youth Ministry
END:VEVENT
BEGIN:VEVENT
DTSTART;TZID=America/Los_Angeles:20260419T103000
DTEND;TZID=America/Los_Angeles:20260419T113000
DTSTAMP:20260423T021143
CREATED:20251118T214536Z
LAST-MODIFIED:20251118T214536Z
UID:41398-1776594600-1776598200@lopc.org
SUMMARY:The Garden
DESCRIPTION:
URL:https://lopc.org/event/the-garden-4/2026-04-19/
LOCATION:Lafayette-Orinda Presbyterian Church: 49 Knox Drive Lafayette CA 94549
CATEGORIES:Children's Ministry
ORGANIZER;CN="Emily Austin":MAILTO:emily@lopc.org
END:VEVENT
BEGIN:VEVENT
DTSTART;TZID=America/Los_Angeles:20260412T180000
DTEND;TZID=America/Los_Angeles:20260412T200000
DTSTAMP:20260423T021143
CREATED:20240729T220617Z
LAST-MODIFIED:20240729T220617Z
UID:40797-1776016800-1776024000@lopc.org
SUMMARY:BTW: By The Way
DESCRIPTION:BTW is LOPC’s ministry for high school youth and meets on Sunday evenings in CLC 201 from 6:00–8:00 p.m. Optional pizza dinner for $5 at 5:45 p.m. in Davies Room.
URL:https://lopc.org/event/btw-by-the-way-2/2026-04-12/
LOCATION:Lafayette-Orinda Presbyterian Church: 49 Knox Drive Lafayette CA 94549
CATEGORIES:Youth Ministry
END:VEVENT
BEGIN:VEVENT
DTSTART;TZID=America/Los_Angeles:20260412T103000
DTEND;TZID=America/Los_Angeles:20260412T113000
DTSTAMP:20260423T021143
CREATED:20251118T214536Z
LAST-MODIFIED:20251118T214536Z
UID:41397-1775989800-1775993400@lopc.org
SUMMARY:The Garden
DESCRIPTION:
URL:https://lopc.org/event/the-garden-4/2026-04-12/
LOCATION:Lafayette-Orinda Presbyterian Church: 49 Knox Drive Lafayette CA 94549
CATEGORIES:Children's Ministry
ORGANIZER;CN="Emily Austin":MAILTO:emily@lopc.org
END:VEVENT
BEGIN:VEVENT
DTSTART;TZID=America/Los_Angeles:20260405T103000
DTEND;TZID=America/Los_Angeles:20260405T113000
DTSTAMP:20260423T021143
CREATED:20251118T214536Z
LAST-MODIFIED:20251118T214536Z
UID:41396-1775385000-1775388600@lopc.org
SUMMARY:The Garden
DESCRIPTION:
URL:https://lopc.org/event/the-garden-4/2026-04-05/
LOCATION:Lafayette-Orinda Presbyterian Church: 49 Knox Drive Lafayette CA 94549
CATEGORIES:Children's Ministry
ORGANIZER;CN="Emily Austin":MAILTO:emily@lopc.org
END:VEVENT
BEGIN:VEVENT
DTSTART;TZID=America/Los_Angeles:20260329T113000
DTEND;TZID=America/Los_Angeles:20260329T130000
DTSTAMP:20260423T021143
CREATED:20260113T224338Z
LAST-MODIFIED:20260320T064641Z
UID:41684-1774783800-1774789200@lopc.org
SUMMARY:LOPC EGG HUNT & SPRING CELEBRATION
DESCRIPTION:REGISTER HERE\nLOPC Egg Hunt & Spring Celebration\nSunday\, March 29\n11:30 a.m.–1:00 p.m. \nLooking for a free Easter egg hunt in the East Bay?Join Lafayette-Orinda Presbyterian Church  for a joyful\, family-friendly event for all ages! \nEvent Highlights:• Three age-group egg hunts (Infants–4th Grade)• Easter Bunny visit• Crafts\, games & face painting• Breakfast bites & treats \nBring your baskets and enjoy a morning of community\, celebration\, and springtime fun. This is one of the top free Easter events in Lafayette and the East Bay\, perfect for families\, friends\, and neighbors. \nRSVP requested for planning purposes: lopc.org/egghunt. Questions? Contact gina@lopc.org \nWe look forward to seeing you there!
URL:https://lopc.org/event/lopc-org-egghunt/
LOCATION:Lafayette-Orinda Presbyterian Church: 49 Knox Drive Lafayette CA 94549
CATEGORIES:latest,Registrations
ATTACH;FMTTYPE=image/png:https://lopc.org/wp-content/uploads/2026/01/Egg-Hunt.-horizontal.-8.5x11-1920-x-1080-px-1.png
END:VEVENT
BEGIN:VEVENT
DTSTART;TZID=America/Los_Angeles:20260329T103000
DTEND;TZID=America/Los_Angeles:20260329T113000
DTSTAMP:20260423T021143
CREATED:20251118T214536Z
LAST-MODIFIED:20251118T214536Z
UID:41395-1774780200-1774783800@lopc.org
SUMMARY:The Garden
DESCRIPTION:
URL:https://lopc.org/event/the-garden-4/2026-03-29/
LOCATION:Lafayette-Orinda Presbyterian Church: 49 Knox Drive Lafayette CA 94549
CATEGORIES:Children's Ministry
ORGANIZER;CN="Emily Austin":MAILTO:emily@lopc.org
END:VEVENT
BEGIN:VEVENT
DTSTART;TZID=America/Los_Angeles:20260322T180000
DTEND;TZID=America/Los_Angeles:20260322T200000
DTSTAMP:20260423T021143
CREATED:20240729T220617Z
LAST-MODIFIED:20240729T220617Z
UID:40794-1774202400-1774209600@lopc.org
SUMMARY:BTW: By The Way
DESCRIPTION:BTW is LOPC’s ministry for high school youth and meets on Sunday evenings in CLC 201 from 6:00–8:00 p.m. Optional pizza dinner for $5 at 5:45 p.m. in Davies Room.
URL:https://lopc.org/event/btw-by-the-way-2/2026-03-22/
LOCATION:Lafayette-Orinda Presbyterian Church: 49 Knox Drive Lafayette CA 94549
CATEGORIES:Youth Ministry
END:VEVENT
BEGIN:VEVENT
DTSTART;TZID=America/Los_Angeles:20260322T103000
DTEND;TZID=America/Los_Angeles:20260322T113000
DTSTAMP:20260423T021143
CREATED:20251118T214536Z
LAST-MODIFIED:20251118T214536Z
UID:41394-1774175400-1774179000@lopc.org
SUMMARY:The Garden
DESCRIPTION:
URL:https://lopc.org/event/the-garden-4/2026-03-22/
LOCATION:Lafayette-Orinda Presbyterian Church: 49 Knox Drive Lafayette CA 94549
CATEGORIES:Children's Ministry
ORGANIZER;CN="Emily Austin":MAILTO:emily@lopc.org
END:VEVENT
BEGIN:VEVENT
DTSTART;TZID=America/Los_Angeles:20260321T083000
DTEND;TZID=America/Los_Angeles:20260321T130000
DTSTAMP:20260423T021143
CREATED:20260211T002024Z
LAST-MODIFIED:20260311T185407Z
UID:42041-1774081800-1774098000@lopc.org
SUMMARY:Navigating Aging with Confidence
DESCRIPTION:A special one-day workshop. Aging is a journey we all share. With the right tools\, the path becomes easier to navigate. Discover strategies and resources that support independence and well-being. Join us for this special workshop and learn from experts how we can support our well-being and be inspired to age with confidence! \n Guest speakers and their topics are listed below. All are welcome! \nHosted by LOPC in partnership with Lamorinda Village. \nMatthew Wynn PhD: Acceptance and Uncertainty: Strategies and tools designed to help people be more accepting of uncertainty and to tolerate the discomfort that uncertainty brings to their lives. \nSharon Campton: Demystifying Hospice and End of Life Care \nSharon Iversen\, Registered Nurse\, Healthcare Attorney: Importance of Getting Your Healthcare Affairs in Order \nLinda Fodrini-Johnson\, MA: When Forgetfulness Matters: Understanding Mild Cognitive Impairment \nStephanie Eukel\, Director at Aegis Living: Detrimental Effect of Loneliness and Ways to Alleviate These Feelings \nKathryn Schofield\, Attorney: Necessary Legal Tools for the Aging Journey \nPamela McDonald\, FA\, FNP\, PNP: APO E Gene – Harnessing Nutrition\, Exercise & Food as Medicine for the Heart\, Brain\, Immune Defense \nFor questions\, contact Shelli Brudzinski. \nRegister Here
URL:https://lopc.org/event/navigating-aging-with-confidence/
LOCATION:Lafayette-Orinda Presbyterian Church: 49 Knox Drive Lafayette CA 94549
CATEGORIES:latest,Registrations
ATTACH;FMTTYPE=image/png:https://lopc.org/wp-content/uploads/2026/02/Navigating-Aging-2.png
END:VEVENT
BEGIN:VEVENT
DTSTART;TZID=America/Los_Angeles:20260319T163000
DTEND;TZID=America/Los_Angeles:20260319T180000
DTSTAMP:20260423T021143
CREATED:20250904T183928Z
LAST-MODIFIED:20260108T170200Z
UID:41655-1773937800-1773943200@lopc.org
SUMMARY:Friendship Circle
DESCRIPTION:This is an evening of fellowship with art and crafts\, games\, a pizza snack\, and other social activities. We also have buddies from local high schools and colleges joining us. We ask a parent\, guardian\, or caregiver to join their youth the first time that they attend Friendship Circle to help them navigate this social setting. If your youth has an aide during their school day\, we ask that a parent\, guardian or caregiver join them at all of the Friendship Circle gatherings.  The program runs from 4:30 p.m. to 6:00 p.m. in Room 201 of the Christian Life Center (Seedlings) Building. \n 
URL:https://lopc.org/event/special-needs-ministry-friendship-circle/2026-03-19/
LOCATION:Lafayette-Orinda Presbyterian Church: 49 Knox Drive Lafayette CA 94549
CATEGORIES:latest,Special Needs
ATTACH;FMTTYPE=image/jpeg:https://lopc.org/wp-content/uploads/2022/08/special-needs-mobile-1.jpg
END:VEVENT
BEGIN:VEVENT
DTSTART;TZID=America/Los_Angeles:20260315T180000
DTEND;TZID=America/Los_Angeles:20260315T200000
DTSTAMP:20260423T021143
CREATED:20240729T220617Z
LAST-MODIFIED:20240729T220617Z
UID:40793-1773597600-1773604800@lopc.org
SUMMARY:BTW: By The Way
DESCRIPTION:BTW is LOPC’s ministry for high school youth and meets on Sunday evenings in CLC 201 from 6:00–8:00 p.m. Optional pizza dinner for $5 at 5:45 p.m. in Davies Room.
URL:https://lopc.org/event/btw-by-the-way-2/2026-03-15/
LOCATION:Lafayette-Orinda Presbyterian Church: 49 Knox Drive Lafayette CA 94549
CATEGORIES:Youth Ministry
END:VEVENT
BEGIN:VEVENT
DTSTART;TZID=America/Los_Angeles:20260315T103000
DTEND;TZID=America/Los_Angeles:20260315T113000
DTSTAMP:20260423T021143
CREATED:20251118T214536Z
LAST-MODIFIED:20251118T214536Z
UID:41393-1773570600-1773574200@lopc.org
SUMMARY:The Garden
DESCRIPTION:
URL:https://lopc.org/event/the-garden-4/2026-03-15/
LOCATION:Lafayette-Orinda Presbyterian Church: 49 Knox Drive Lafayette CA 94549
CATEGORIES:Children's Ministry
ORGANIZER;CN="Emily Austin":MAILTO:emily@lopc.org
END:VEVENT
BEGIN:VEVENT
DTSTART;TZID=America/Los_Angeles:20260311T151500
DTEND;TZID=America/Los_Angeles:20260311T171500
DTSTAMP:20260423T021143
CREATED:20260206T003849Z
LAST-MODIFIED:20260209T162758Z
UID:42060-1773242100-1773249300@lopc.org
SUMMARY:Kids Helping Kids
DESCRIPTION:Children in Kindergarten through 5th grade are invited to join us for an afternoon of service and fellowship. We will be working on projects that support LOPC’s mission partner STAND! There is no fee to participate\, but advanced registration is recommended so we can plan accordingly.
URL:https://lopc.org/event/kids-helping-kids/
LOCATION:Lafayette-Orinda Presbyterian Church: 49 Knox Drive Lafayette CA 94549
CATEGORIES:Children's Ministry,latest,Registrations
ATTACH;FMTTYPE=image/png:https://lopc.org/wp-content/uploads/2026/02/Playful-Kids-Service-Project-Logo-1000-x-562-px.png
END:VEVENT
BEGIN:VEVENT
DTSTART;TZID=America/Los_Angeles:20260308T180000
DTEND;TZID=America/Los_Angeles:20260308T200000
DTSTAMP:20260423T021143
CREATED:20240729T220617Z
LAST-MODIFIED:20240729T220617Z
UID:40792-1772992800-1773000000@lopc.org
SUMMARY:BTW: By The Way
DESCRIPTION:BTW is LOPC’s ministry for high school youth and meets on Sunday evenings in CLC 201 from 6:00–8:00 p.m. Optional pizza dinner for $5 at 5:45 p.m. in Davies Room.
URL:https://lopc.org/event/btw-by-the-way-2/2026-03-08/
LOCATION:Lafayette-Orinda Presbyterian Church: 49 Knox Drive Lafayette CA 94549
CATEGORIES:Youth Ministry
END:VEVENT
BEGIN:VEVENT
DTSTART;TZID=America/Los_Angeles:20260308T103000
DTEND;TZID=America/Los_Angeles:20260308T113000
DTSTAMP:20260423T021143
CREATED:20251118T214536Z
LAST-MODIFIED:20251118T214536Z
UID:41392-1772965800-1772969400@lopc.org
SUMMARY:The Garden
DESCRIPTION:
URL:https://lopc.org/event/the-garden-4/2026-03-08/
LOCATION:Lafayette-Orinda Presbyterian Church: 49 Knox Drive Lafayette CA 94549
CATEGORIES:Children's Ministry
ORGANIZER;CN="Emily Austin":MAILTO:emily@lopc.org
END:VEVENT
BEGIN:VEVENT
DTSTART;TZID=America/Los_Angeles:20260301T180000
DTEND;TZID=America/Los_Angeles:20260301T200000
DTSTAMP:20260423T021143
CREATED:20240729T220617Z
LAST-MODIFIED:20240729T220617Z
UID:40791-1772388000-1772395200@lopc.org
SUMMARY:BTW: By The Way
DESCRIPTION:BTW is LOPC’s ministry for high school youth and meets on Sunday evenings in CLC 201 from 6:00–8:00 p.m. Optional pizza dinner for $5 at 5:45 p.m. in Davies Room.
URL:https://lopc.org/event/btw-by-the-way-2/2026-03-01/
LOCATION:Lafayette-Orinda Presbyterian Church: 49 Knox Drive Lafayette CA 94549
CATEGORIES:Youth Ministry
END:VEVENT
BEGIN:VEVENT
DTSTART;TZID=America/Los_Angeles:20260301T103000
DTEND;TZID=America/Los_Angeles:20260301T113000
DTSTAMP:20260423T021143
CREATED:20251118T214536Z
LAST-MODIFIED:20251118T214536Z
UID:41391-1772361000-1772364600@lopc.org
SUMMARY:The Garden
DESCRIPTION:
URL:https://lopc.org/event/the-garden-4/2026-03-01/
LOCATION:Lafayette-Orinda Presbyterian Church: 49 Knox Drive Lafayette CA 94549
CATEGORIES:Children's Ministry
ORGANIZER;CN="Emily Austin":MAILTO:emily@lopc.org
END:VEVENT
BEGIN:VEVENT
DTSTART;TZID=America/Los_Angeles:20260222T180000
DTEND;TZID=America/Los_Angeles:20260222T200000
DTSTAMP:20260423T021143
CREATED:20240729T220617Z
LAST-MODIFIED:20240729T220617Z
UID:40790-1771783200-1771790400@lopc.org
SUMMARY:BTW: By The Way
DESCRIPTION:BTW is LOPC’s ministry for high school youth and meets on Sunday evenings in CLC 201 from 6:00–8:00 p.m. Optional pizza dinner for $5 at 5:45 p.m. in Davies Room.
URL:https://lopc.org/event/btw-by-the-way-2/2026-02-22/
LOCATION:Lafayette-Orinda Presbyterian Church: 49 Knox Drive Lafayette CA 94549
CATEGORIES:Youth Ministry
END:VEVENT
BEGIN:VEVENT
DTSTART;TZID=America/Los_Angeles:20260222T103000
DTEND;TZID=America/Los_Angeles:20260222T113000
DTSTAMP:20260423T021143
CREATED:20251118T214536Z
LAST-MODIFIED:20251118T214536Z
UID:41390-1771756200-1771759800@lopc.org
SUMMARY:The Garden
DESCRIPTION:
URL:https://lopc.org/event/the-garden-4/2026-02-22/
LOCATION:Lafayette-Orinda Presbyterian Church: 49 Knox Drive Lafayette CA 94549
CATEGORIES:Children's Ministry
ORGANIZER;CN="Emily Austin":MAILTO:emily@lopc.org
END:VEVENT
BEGIN:VEVENT
DTSTART;TZID=America/Los_Angeles:20260219T163000
DTEND;TZID=America/Los_Angeles:20260219T180000
DTSTAMP:20260423T021143
CREATED:20250904T183928Z
LAST-MODIFIED:20260108T170200Z
UID:41654-1771518600-1771524000@lopc.org
SUMMARY:Friendship Circle
DESCRIPTION:This is an evening of fellowship with art and crafts\, games\, a pizza snack\, and other social activities. We also have buddies from local high schools and colleges joining us. We ask a parent\, guardian\, or caregiver to join their youth the first time that they attend Friendship Circle to help them navigate this social setting. If your youth has an aide during their school day\, we ask that a parent\, guardian or caregiver join them at all of the Friendship Circle gatherings.  The program runs from 4:30 p.m. to 6:00 p.m. in Room 201 of the Christian Life Center (Seedlings) Building. \n 
URL:https://lopc.org/event/special-needs-ministry-friendship-circle/2026-02-19/
LOCATION:Lafayette-Orinda Presbyterian Church: 49 Knox Drive Lafayette CA 94549
CATEGORIES:latest,Special Needs
ATTACH;FMTTYPE=image/jpeg:https://lopc.org/wp-content/uploads/2022/08/special-needs-mobile-1.jpg
END:VEVENT
BEGIN:VEVENT
DTSTART;TZID=America/Los_Angeles:20260215T180000
DTEND;TZID=America/Los_Angeles:20260215T200000
DTSTAMP:20260423T021143
CREATED:20240729T220617Z
LAST-MODIFIED:20240729T220617Z
UID:40789-1771178400-1771185600@lopc.org
SUMMARY:BTW: By The Way
DESCRIPTION:BTW is LOPC’s ministry for high school youth and meets on Sunday evenings in CLC 201 from 6:00–8:00 p.m. Optional pizza dinner for $5 at 5:45 p.m. in Davies Room.
URL:https://lopc.org/event/btw-by-the-way-2/2026-02-15/
LOCATION:Lafayette-Orinda Presbyterian Church: 49 Knox Drive Lafayette CA 94549
CATEGORIES:Youth Ministry
END:VEVENT
BEGIN:VEVENT
DTSTART;TZID=America/Los_Angeles:20260215T103000
DTEND;TZID=America/Los_Angeles:20260215T113000
DTSTAMP:20260423T021143
CREATED:20251118T214536Z
LAST-MODIFIED:20251118T214536Z
UID:41389-1771151400-1771155000@lopc.org
SUMMARY:The Garden
DESCRIPTION:
URL:https://lopc.org/event/the-garden-4/2026-02-15/
LOCATION:Lafayette-Orinda Presbyterian Church: 49 Knox Drive Lafayette CA 94549
CATEGORIES:Children's Ministry
ORGANIZER;CN="Emily Austin":MAILTO:emily@lopc.org
END:VEVENT
BEGIN:VEVENT
DTSTART;TZID=America/Los_Angeles:20260208T180000
DTEND;TZID=America/Los_Angeles:20260208T200000
DTSTAMP:20260423T021143
CREATED:20240729T220617Z
LAST-MODIFIED:20260326T211747Z
UID:40788-1770573600-1770580800@lopc.org
SUMMARY:BTW: By The Way
DESCRIPTION:BTW is LOPC’s ministry for high school youth and meets on Sunday evenings in CLC 201 from 6:00–8:00 p.m. Optional pizza dinner for $5 at 5:45 p.m. in Davies Room.
URL:https://lopc.org/event/btw-by-the-way-2/2026-02-08/
LOCATION:Lafayette-Orinda Presbyterian Church: 49 Knox Drive Lafayette CA 94549
CATEGORIES:Youth Ministry
END:VEVENT
BEGIN:VEVENT
DTSTART;TZID=America/Los_Angeles:20260208T103000
DTEND;TZID=America/Los_Angeles:20260208T113000
DTSTAMP:20260423T021143
CREATED:20251118T214536Z
LAST-MODIFIED:20251118T214536Z
UID:41387-1770546600-1770550200@lopc.org
SUMMARY:The Garden
DESCRIPTION:
URL:https://lopc.org/event/the-garden-4/2026-02-08/
LOCATION:Lafayette-Orinda Presbyterian Church: 49 Knox Drive Lafayette CA 94549
CATEGORIES:Children's Ministry
ORGANIZER;CN="Emily Austin":MAILTO:emily@lopc.org
END:VEVENT
BEGIN:VEVENT
DTSTART;TZID=America/Los_Angeles:20260201T180000
DTEND;TZID=America/Los_Angeles:20260201T200000
DTSTAMP:20260423T021143
CREATED:20240729T220617Z
LAST-MODIFIED:20260326T211746Z
UID:40787-1769968800-1769976000@lopc.org
SUMMARY:BTW: By The Way
DESCRIPTION:BTW is LOPC’s ministry for high school youth and meets on Sunday evenings in CLC 201 from 6:00–8:00 p.m. Optional pizza dinner for $5 at 5:45 p.m. in Davies Room.
URL:https://lopc.org/event/btw-by-the-way-2/2026-02-01/
LOCATION:Lafayette-Orinda Presbyterian Church: 49 Knox Drive Lafayette CA 94549
CATEGORIES:Youth Ministry
END:VEVENT
BEGIN:VEVENT
DTSTART;TZID=America/Los_Angeles:20260201T103000
DTEND;TZID=America/Los_Angeles:20260201T113000
DTSTAMP:20260423T021143
CREATED:20251118T214536Z
LAST-MODIFIED:20251118T214536Z
UID:41386-1769941800-1769945400@lopc.org
SUMMARY:The Garden
DESCRIPTION:
URL:https://lopc.org/event/the-garden-4/2026-02-01/
LOCATION:Lafayette-Orinda Presbyterian Church: 49 Knox Drive Lafayette CA 94549
CATEGORIES:Children's Ministry
ORGANIZER;CN="Emily Austin":MAILTO:emily@lopc.org
END:VEVENT
BEGIN:VEVENT
DTSTART;TZID=America/Los_Angeles:20260125T180000
DTEND;TZID=America/Los_Angeles:20260125T200000
DTSTAMP:20260423T021143
CREATED:20240729T220617Z
LAST-MODIFIED:20260326T211746Z
UID:40786-1769364000-1769371200@lopc.org
SUMMARY:BTW: By The Way
DESCRIPTION:BTW is LOPC’s ministry for high school youth and meets on Sunday evenings in CLC 201 from 6:00–8:00 p.m. Optional pizza dinner for $5 at 5:45 p.m. in Davies Room.
URL:https://lopc.org/event/btw-by-the-way-2/2026-01-25/
LOCATION:Lafayette-Orinda Presbyterian Church: 49 Knox Drive Lafayette CA 94549
CATEGORIES:Youth Ministry
END:VEVENT
BEGIN:VEVENT
DTSTART;TZID=America/Los_Angeles:20260125T103000
DTEND;TZID=America/Los_Angeles:20260125T113000
DTSTAMP:20260423T021143
CREATED:20251118T214536Z
LAST-MODIFIED:20251118T214536Z
UID:41385-1769337000-1769340600@lopc.org
SUMMARY:The Garden
DESCRIPTION:
URL:https://lopc.org/event/the-garden-4/2026-01-25/
LOCATION:Lafayette-Orinda Presbyterian Church: 49 Knox Drive Lafayette CA 94549
CATEGORIES:Children's Ministry
ORGANIZER;CN="Emily Austin":MAILTO:emily@lopc.org
END:VEVENT
END:VCALENDAR