BEGIN:VCALENDAR
VERSION:2.0
PRODID:-//Lafayette-Orinda Presbyterian Church - ECPv6.15.4//NONSGML v1.0//EN
CALSCALE:GREGORIAN
METHOD:PUBLISH
X-ORIGINAL-URL:https://lopc.org
X-WR-CALDESC:Events for Lafayette-Orinda Presbyterian Church
REFRESH-INTERVAL;VALUE=DURATION:PT1H
X-Robots-Tag:noindex
X-PUBLISHED-TTL:PT1H
BEGIN:VTIMEZONE
TZID:America/Los_Angeles
BEGIN:DAYLIGHT
TZOFFSETFROM:-0800
TZOFFSETTO:-0700
TZNAME:PDT
DTSTART:20260308T100000
END:DAYLIGHT
BEGIN:STANDARD
TZOFFSETFROM:-0700
TZOFFSETTO:-0800
TZNAME:PST
DTSTART:20261101T090000
END:STANDARD
END:VTIMEZONE
BEGIN:VEVENT
DTSTART;TZID=America/Los_Angeles:20260419T103000
DTEND;TZID=America/Los_Angeles:20260419T113000
DTSTAMP:20260419T085808
CREATED:20240729T220456Z
LAST-MODIFIED:20260326T212146Z
UID:40695-1776594600-1776598200@lopc.org
SUMMARY:Youth Alive
DESCRIPTION:Sunday Mornings\, 10:30 a.m. in CLC 201  \nYouth Alive! is back for the 2025-2026 school year. Youth in 5th–8th grade take part in fun games\, activities\, and Bible-based discussions relevant to their lives while connecting with peers. Students learn about how God has connected with people in Scripture and how we continue to see God at work in our lives today.
URL:https://lopc.org/event/youth-alive-3/2026-04-19/
CATEGORIES:Youth Ministry
END:VEVENT
BEGIN:VEVENT
DTSTART;TZID=America/Los_Angeles:20260419T180000
DTEND;TZID=America/Los_Angeles:20260419T200000
DTSTAMP:20260419T085808
CREATED:20240729T220617Z
LAST-MODIFIED:20240729T220617Z
UID:40798-1776621600-1776628800@lopc.org
SUMMARY:BTW: By The Way
DESCRIPTION:BTW is LOPC’s ministry for high school youth and meets on Sunday evenings in CLC 201 from 6:00–8:00 p.m. Optional pizza dinner for $5 at 5:45 p.m. in Davies Room.
URL:https://lopc.org/event/btw-by-the-way-2/2026-04-19/
LOCATION:Lafayette-Orinda Presbyterian Church: 49 Knox Drive Lafayette CA 94549
CATEGORIES:Youth Ministry
END:VEVENT
BEGIN:VEVENT
DTSTART;TZID=America/Los_Angeles:20260422T180000
DTEND;TZID=America/Los_Angeles:20260422T193000
DTSTAMP:20260419T085808
CREATED:20240729T220724Z
LAST-MODIFIED:20260326T211426Z
UID:40592-1776880800-1776886200@lopc.org
SUMMARY:YOW: Youth on Wednesday
DESCRIPTION:YOW is LOPC’s ministry for 5th–8th grade youth and meets on Wednesday evenings in CLC 201 from 6:00–7:30 p.m. with an optional dinner for $5 in the Davies Room at 5:30 p.m.
URL:https://lopc.org/event/yow-youth-on-wednesday/2026-04-22/
CATEGORIES:Youth Ministry
END:VEVENT
BEGIN:VEVENT
DTSTART;TZID=America/Los_Angeles:20260426T103000
DTEND;TZID=America/Los_Angeles:20260426T113000
DTSTAMP:20260419T085808
CREATED:20240729T220456Z
LAST-MODIFIED:20260326T212146Z
UID:40696-1777199400-1777203000@lopc.org
SUMMARY:Youth Alive
DESCRIPTION:Sunday Mornings\, 10:30 a.m. in CLC 201  \nYouth Alive! is back for the 2025-2026 school year. Youth in 5th–8th grade take part in fun games\, activities\, and Bible-based discussions relevant to their lives while connecting with peers. Students learn about how God has connected with people in Scripture and how we continue to see God at work in our lives today.
URL:https://lopc.org/event/youth-alive-3/2026-04-26/
CATEGORIES:Youth Ministry
END:VEVENT
BEGIN:VEVENT
DTSTART;TZID=America/Los_Angeles:20260426T180000
DTEND;TZID=America/Los_Angeles:20260426T200000
DTSTAMP:20260419T085808
CREATED:20240729T220617Z
LAST-MODIFIED:20240729T220617Z
UID:40799-1777226400-1777233600@lopc.org
SUMMARY:BTW: By The Way
DESCRIPTION:BTW is LOPC’s ministry for high school youth and meets on Sunday evenings in CLC 201 from 6:00–8:00 p.m. Optional pizza dinner for $5 at 5:45 p.m. in Davies Room.
URL:https://lopc.org/event/btw-by-the-way-2/2026-04-26/
LOCATION:Lafayette-Orinda Presbyterian Church: 49 Knox Drive Lafayette CA 94549
CATEGORIES:Youth Ministry
END:VEVENT
BEGIN:VEVENT
DTSTART;TZID=America/Los_Angeles:20260429T180000
DTEND;TZID=America/Los_Angeles:20260429T193000
DTSTAMP:20260419T085808
CREATED:20240729T220724Z
LAST-MODIFIED:20260326T211427Z
UID:40593-1777485600-1777491000@lopc.org
SUMMARY:YOW: Youth on Wednesday
DESCRIPTION:YOW is LOPC’s ministry for 5th–8th grade youth and meets on Wednesday evenings in CLC 201 from 6:00–7:30 p.m. with an optional dinner for $5 in the Davies Room at 5:30 p.m.
URL:https://lopc.org/event/yow-youth-on-wednesday/2026-04-29/
CATEGORIES:Youth Ministry
END:VEVENT
BEGIN:VEVENT
DTSTART;TZID=America/Los_Angeles:20260503T103000
DTEND;TZID=America/Los_Angeles:20260503T113000
DTSTAMP:20260419T085808
CREATED:20240729T220456Z
LAST-MODIFIED:20260326T212146Z
UID:40697-1777804200-1777807800@lopc.org
SUMMARY:Youth Alive
DESCRIPTION:Sunday Mornings\, 10:30 a.m. in CLC 201  \nYouth Alive! is back for the 2025-2026 school year. Youth in 5th–8th grade take part in fun games\, activities\, and Bible-based discussions relevant to their lives while connecting with peers. Students learn about how God has connected with people in Scripture and how we continue to see God at work in our lives today.
URL:https://lopc.org/event/youth-alive-3/2026-05-03/
CATEGORIES:Youth Ministry
END:VEVENT
BEGIN:VEVENT
DTSTART;TZID=America/Los_Angeles:20260503T180000
DTEND;TZID=America/Los_Angeles:20260503T200000
DTSTAMP:20260419T085808
CREATED:20240729T220617Z
LAST-MODIFIED:20240729T220617Z
UID:40800-1777831200-1777838400@lopc.org
SUMMARY:BTW: By The Way
DESCRIPTION:BTW is LOPC’s ministry for high school youth and meets on Sunday evenings in CLC 201 from 6:00–8:00 p.m. Optional pizza dinner for $5 at 5:45 p.m. in Davies Room.
URL:https://lopc.org/event/btw-by-the-way-2/2026-05-03/
LOCATION:Lafayette-Orinda Presbyterian Church: 49 Knox Drive Lafayette CA 94549
CATEGORIES:Youth Ministry
END:VEVENT
BEGIN:VEVENT
DTSTART;TZID=America/Los_Angeles:20260506T180000
DTEND;TZID=America/Los_Angeles:20260506T193000
DTSTAMP:20260419T085808
CREATED:20240729T220724Z
LAST-MODIFIED:20260326T211428Z
UID:40594-1778090400-1778095800@lopc.org
SUMMARY:YOW: Youth on Wednesday
DESCRIPTION:YOW is LOPC’s ministry for 5th–8th grade youth and meets on Wednesday evenings in CLC 201 from 6:00–7:30 p.m. with an optional dinner for $5 in the Davies Room at 5:30 p.m.
URL:https://lopc.org/event/yow-youth-on-wednesday/2026-05-06/
CATEGORIES:Youth Ministry
END:VEVENT
BEGIN:VEVENT
DTSTART;TZID=America/Los_Angeles:20260510T103000
DTEND;TZID=America/Los_Angeles:20260510T113000
DTSTAMP:20260419T085808
CREATED:20240729T220456Z
LAST-MODIFIED:20260326T212146Z
UID:40698-1778409000-1778412600@lopc.org
SUMMARY:Youth Alive
DESCRIPTION:Sunday Mornings\, 10:30 a.m. in CLC 201  \nYouth Alive! is back for the 2025-2026 school year. Youth in 5th–8th grade take part in fun games\, activities\, and Bible-based discussions relevant to their lives while connecting with peers. Students learn about how God has connected with people in Scripture and how we continue to see God at work in our lives today.
URL:https://lopc.org/event/youth-alive-3/2026-05-10/
CATEGORIES:Youth Ministry
END:VEVENT
BEGIN:VEVENT
DTSTART;TZID=America/Los_Angeles:20260510T180000
DTEND;TZID=America/Los_Angeles:20260510T200000
DTSTAMP:20260419T085808
CREATED:20240729T220617Z
LAST-MODIFIED:20240729T220617Z
UID:40801-1778436000-1778443200@lopc.org
SUMMARY:BTW: By The Way
DESCRIPTION:BTW is LOPC’s ministry for high school youth and meets on Sunday evenings in CLC 201 from 6:00–8:00 p.m. Optional pizza dinner for $5 at 5:45 p.m. in Davies Room.
URL:https://lopc.org/event/btw-by-the-way-2/2026-05-10/
LOCATION:Lafayette-Orinda Presbyterian Church: 49 Knox Drive Lafayette CA 94549
CATEGORIES:Youth Ministry
END:VEVENT
BEGIN:VEVENT
DTSTART;TZID=America/Los_Angeles:20260513T180000
DTEND;TZID=America/Los_Angeles:20260513T193000
DTSTAMP:20260419T085808
CREATED:20240729T220724Z
LAST-MODIFIED:20260326T211428Z
UID:40595-1778695200-1778700600@lopc.org
SUMMARY:YOW: Youth on Wednesday
DESCRIPTION:YOW is LOPC’s ministry for 5th–8th grade youth and meets on Wednesday evenings in CLC 201 from 6:00–7:30 p.m. with an optional dinner for $5 in the Davies Room at 5:30 p.m.
URL:https://lopc.org/event/yow-youth-on-wednesday/2026-05-13/
CATEGORIES:Youth Ministry
END:VEVENT
BEGIN:VEVENT
DTSTART;TZID=America/Los_Angeles:20260517T103000
DTEND;TZID=America/Los_Angeles:20260517T113000
DTSTAMP:20260419T085808
CREATED:20240729T220456Z
LAST-MODIFIED:20260326T212148Z
UID:40699-1779013800-1779017400@lopc.org
SUMMARY:Youth Alive
DESCRIPTION:Sunday Mornings\, 10:30 a.m. in CLC 201  \nYouth Alive! is back for the 2025-2026 school year. Youth in 5th–8th grade take part in fun games\, activities\, and Bible-based discussions relevant to their lives while connecting with peers. Students learn about how God has connected with people in Scripture and how we continue to see God at work in our lives today.
URL:https://lopc.org/event/youth-alive-3/2026-05-17/
CATEGORIES:Youth Ministry
END:VEVENT
BEGIN:VEVENT
DTSTART;TZID=America/Los_Angeles:20260517T180000
DTEND;TZID=America/Los_Angeles:20260517T200000
DTSTAMP:20260419T085808
CREATED:20240729T220617Z
LAST-MODIFIED:20240729T220617Z
UID:40802-1779040800-1779048000@lopc.org
SUMMARY:BTW: By The Way
DESCRIPTION:BTW is LOPC’s ministry for high school youth and meets on Sunday evenings in CLC 201 from 6:00–8:00 p.m. Optional pizza dinner for $5 at 5:45 p.m. in Davies Room.
URL:https://lopc.org/event/btw-by-the-way-2/2026-05-17/
LOCATION:Lafayette-Orinda Presbyterian Church: 49 Knox Drive Lafayette CA 94549
CATEGORIES:Youth Ministry
END:VEVENT
BEGIN:VEVENT
DTSTART;TZID=America/Los_Angeles:20260520T180000
DTEND;TZID=America/Los_Angeles:20260520T193000
DTSTAMP:20260419T085808
CREATED:20240729T220724Z
LAST-MODIFIED:20260326T211428Z
UID:40596-1779300000-1779305400@lopc.org
SUMMARY:YOW: Youth on Wednesday
DESCRIPTION:YOW is LOPC’s ministry for 5th–8th grade youth and meets on Wednesday evenings in CLC 201 from 6:00–7:30 p.m. with an optional dinner for $5 in the Davies Room at 5:30 p.m.
URL:https://lopc.org/event/yow-youth-on-wednesday/2026-05-20/
CATEGORIES:Youth Ministry
END:VEVENT
BEGIN:VEVENT
DTSTART;TZID=America/Los_Angeles:20260524T103000
DTEND;TZID=America/Los_Angeles:20260524T113000
DTSTAMP:20260419T085808
CREATED:20240729T220456Z
LAST-MODIFIED:20260326T212148Z
UID:40700-1779618600-1779622200@lopc.org
SUMMARY:Youth Alive
DESCRIPTION:Sunday Mornings\, 10:30 a.m. in CLC 201  \nYouth Alive! is back for the 2025-2026 school year. Youth in 5th–8th grade take part in fun games\, activities\, and Bible-based discussions relevant to their lives while connecting with peers. Students learn about how God has connected with people in Scripture and how we continue to see God at work in our lives today.
URL:https://lopc.org/event/youth-alive-3/2026-05-24/
CATEGORIES:Youth Ministry
END:VEVENT
BEGIN:VEVENT
DTSTART;TZID=America/Los_Angeles:20260524T180000
DTEND;TZID=America/Los_Angeles:20260524T200000
DTSTAMP:20260419T085808
CREATED:20240729T220617Z
LAST-MODIFIED:20240729T220617Z
UID:40803-1779645600-1779652800@lopc.org
SUMMARY:BTW: By The Way
DESCRIPTION:BTW is LOPC’s ministry for high school youth and meets on Sunday evenings in CLC 201 from 6:00–8:00 p.m. Optional pizza dinner for $5 at 5:45 p.m. in Davies Room.
URL:https://lopc.org/event/btw-by-the-way-2/2026-05-24/
LOCATION:Lafayette-Orinda Presbyterian Church: 49 Knox Drive Lafayette CA 94549
CATEGORIES:Youth Ministry
END:VEVENT
BEGIN:VEVENT
DTSTART;TZID=America/Los_Angeles:20260527T180000
DTEND;TZID=America/Los_Angeles:20260527T193000
DTSTAMP:20260419T085808
CREATED:20240729T220724Z
LAST-MODIFIED:20260326T211429Z
UID:40597-1779904800-1779910200@lopc.org
SUMMARY:YOW: Youth on Wednesday
DESCRIPTION:YOW is LOPC’s ministry for 5th–8th grade youth and meets on Wednesday evenings in CLC 201 from 6:00–7:30 p.m. with an optional dinner for $5 in the Davies Room at 5:30 p.m.
URL:https://lopc.org/event/yow-youth-on-wednesday/2026-05-27/
CATEGORIES:Youth Ministry
END:VEVENT
BEGIN:VEVENT
DTSTART;TZID=America/Los_Angeles:20260531T103000
DTEND;TZID=America/Los_Angeles:20260531T113000
DTSTAMP:20260419T085808
CREATED:20240729T220456Z
LAST-MODIFIED:20260326T212148Z
UID:40701-1780223400-1780227000@lopc.org
SUMMARY:Youth Alive
DESCRIPTION:Sunday Mornings\, 10:30 a.m. in CLC 201  \nYouth Alive! is back for the 2025-2026 school year. Youth in 5th–8th grade take part in fun games\, activities\, and Bible-based discussions relevant to their lives while connecting with peers. Students learn about how God has connected with people in Scripture and how we continue to see God at work in our lives today.
URL:https://lopc.org/event/youth-alive-3/2026-05-31/
CATEGORIES:Youth Ministry
END:VEVENT
BEGIN:VEVENT
DTSTART;TZID=America/Los_Angeles:20260531T180000
DTEND;TZID=America/Los_Angeles:20260531T200000
DTSTAMP:20260419T085808
CREATED:20240729T220617Z
LAST-MODIFIED:20240729T220617Z
UID:40804-1780250400-1780257600@lopc.org
SUMMARY:BTW: By The Way
DESCRIPTION:BTW is LOPC’s ministry for high school youth and meets on Sunday evenings in CLC 201 from 6:00–8:00 p.m. Optional pizza dinner for $5 at 5:45 p.m. in Davies Room.
URL:https://lopc.org/event/btw-by-the-way-2/2026-05-31/
LOCATION:Lafayette-Orinda Presbyterian Church: 49 Knox Drive Lafayette CA 94549
CATEGORIES:Youth Ministry
END:VEVENT
BEGIN:VEVENT
DTSTART;TZID=America/Los_Angeles:20260603T180000
DTEND;TZID=America/Los_Angeles:20260603T193000
DTSTAMP:20260419T085808
CREATED:20240729T220724Z
LAST-MODIFIED:20260326T211429Z
UID:40598-1780509600-1780515000@lopc.org
SUMMARY:YOW: Youth on Wednesday
DESCRIPTION:YOW is LOPC’s ministry for 5th–8th grade youth and meets on Wednesday evenings in CLC 201 from 6:00–7:30 p.m. with an optional dinner for $5 in the Davies Room at 5:30 p.m.
URL:https://lopc.org/event/yow-youth-on-wednesday/2026-06-03/
CATEGORIES:Youth Ministry
END:VEVENT
BEGIN:VEVENT
DTSTART;VALUE=DATE:20260605
DTEND;VALUE=DATE:20260608
DTSTAMP:20260419T085808
CREATED:20260301T222209Z
LAST-MODIFIED:20260326T210414Z
UID:42148-1780617600-1780876799@lopc.org
SUMMARY:Service Squad Retreat 2026
DESCRIPTION:This year we are stretching time to spend more focused attention at each partner location. Our theme is Building A Better World. On Friday we’ll be working with the John Muir Land Trust at their Regenerative Farm. On Saturday we’ll head into the city to hand out food at a food pantry in Chinatown. On Sunday we’re worshiping at Glide Memorial Church before serving lunch at Glide to the unhoused. Youth may earn up to 22 service hours. \nThroughout the weekend\, youth will learn ways to be involved in creating a beautiful world where justice and peace are the way we live out God’s love in the world. We hope the time together will inspire youth to serve others throughout their lives. \nCost: $260 \nFinancial assistance is available\, and we are happy to help – contact cynthia@lopc.org \nREGISTER HERE\n 
URL:https://lopc.org/event/service-squad-retreat-2026/
CATEGORIES:latest,Registrations,Youth Ministry
ATTACH;FMTTYPE=image/png:https://lopc.org/wp-content/uploads/2026/02/ServiceSquadInstagramSquare2026.png
END:VEVENT
BEGIN:VEVENT
DTSTART;TZID=America/Los_Angeles:20260607T103000
DTEND;TZID=America/Los_Angeles:20260607T113000
DTSTAMP:20260419T085808
CREATED:20240729T220456Z
LAST-MODIFIED:20260326T212149Z
UID:40702-1780828200-1780831800@lopc.org
SUMMARY:Youth Alive
DESCRIPTION:Sunday Mornings\, 10:30 a.m. in CLC 201  \nYouth Alive! is back for the 2025-2026 school year. Youth in 5th–8th grade take part in fun games\, activities\, and Bible-based discussions relevant to their lives while connecting with peers. Students learn about how God has connected with people in Scripture and how we continue to see God at work in our lives today.
URL:https://lopc.org/event/youth-alive-3/2026-06-07/
CATEGORIES:Youth Ministry
END:VEVENT
BEGIN:VEVENT
DTSTART;TZID=America/Los_Angeles:20260607T180000
DTEND;TZID=America/Los_Angeles:20260607T200000
DTSTAMP:20260419T085808
CREATED:20240729T220617Z
LAST-MODIFIED:20240729T220617Z
UID:40805-1780855200-1780862400@lopc.org
SUMMARY:BTW: By The Way
DESCRIPTION:BTW is LOPC’s ministry for high school youth and meets on Sunday evenings in CLC 201 from 6:00–8:00 p.m. Optional pizza dinner for $5 at 5:45 p.m. in Davies Room.
URL:https://lopc.org/event/btw-by-the-way-2/2026-06-07/
LOCATION:Lafayette-Orinda Presbyterian Church: 49 Knox Drive Lafayette CA 94549
CATEGORIES:Youth Ministry
END:VEVENT
BEGIN:VEVENT
DTSTART;VALUE=DATE:20260608
DTEND;VALUE=DATE:20260613
DTSTAMP:20260419T085808
CREATED:20260301T223036Z
LAST-MODIFIED:20260301T223036Z
UID:42152-1780876800-1781308799@lopc.org
SUMMARY:Service-Learning Experience for High School Students
DESCRIPTION:Cost: $150 \nStudents will serve with Hope Solutions in the morning before returning to LOPC to serve at VB Camp in the afternoon. The evenings will be full of fun activities. \nFor questions: Contact Cynthia Purvis\, Cynthia@lopc.org \nREGISTER HERE
URL:https://lopc.org/event/service-learning-experience-for-high-school-students/
CATEGORIES:latest,Registrations,Youth Ministry
ATTACH;FMTTYPE=image/jpeg:https://lopc.org/wp-content/uploads/2026/02/Service-Squad-Instagram-Post-1.jpeg
END:VEVENT
BEGIN:VEVENT
DTSTART;TZID=America/Los_Angeles:20260610T180000
DTEND;TZID=America/Los_Angeles:20260610T193000
DTSTAMP:20260419T085808
CREATED:20240729T220724Z
LAST-MODIFIED:20260326T211429Z
UID:40599-1781114400-1781119800@lopc.org
SUMMARY:YOW: Youth on Wednesday
DESCRIPTION:YOW is LOPC’s ministry for 5th–8th grade youth and meets on Wednesday evenings in CLC 201 from 6:00–7:30 p.m. with an optional dinner for $5 in the Davies Room at 5:30 p.m.
URL:https://lopc.org/event/yow-youth-on-wednesday/2026-06-10/
CATEGORIES:Youth Ministry
END:VEVENT
BEGIN:VEVENT
DTSTART;TZID=America/Los_Angeles:20260614T103000
DTEND;TZID=America/Los_Angeles:20260614T113000
DTSTAMP:20260419T085808
CREATED:20240729T220456Z
LAST-MODIFIED:20260326T212149Z
UID:40703-1781433000-1781436600@lopc.org
SUMMARY:Youth Alive
DESCRIPTION:Sunday Mornings\, 10:30 a.m. in CLC 201  \nYouth Alive! is back for the 2025-2026 school year. Youth in 5th–8th grade take part in fun games\, activities\, and Bible-based discussions relevant to their lives while connecting with peers. Students learn about how God has connected with people in Scripture and how we continue to see God at work in our lives today.
URL:https://lopc.org/event/youth-alive-3/2026-06-14/
CATEGORIES:Youth Ministry
END:VEVENT
BEGIN:VEVENT
DTSTART;TZID=America/Los_Angeles:20260614T180000
DTEND;TZID=America/Los_Angeles:20260614T200000
DTSTAMP:20260419T085808
CREATED:20240729T220617Z
LAST-MODIFIED:20240729T220617Z
UID:40806-1781460000-1781467200@lopc.org
SUMMARY:BTW: By The Way
DESCRIPTION:BTW is LOPC’s ministry for high school youth and meets on Sunday evenings in CLC 201 from 6:00–8:00 p.m. Optional pizza dinner for $5 at 5:45 p.m. in Davies Room.
URL:https://lopc.org/event/btw-by-the-way-2/2026-06-14/
LOCATION:Lafayette-Orinda Presbyterian Church: 49 Knox Drive Lafayette CA 94549
CATEGORIES:Youth Ministry
END:VEVENT
BEGIN:VEVENT
DTSTART;TZID=America/Los_Angeles:20260617T180000
DTEND;TZID=America/Los_Angeles:20260617T193000
DTSTAMP:20260419T085808
CREATED:20240729T220724Z
LAST-MODIFIED:20260326T211429Z
UID:40600-1781719200-1781724600@lopc.org
SUMMARY:YOW: Youth on Wednesday
DESCRIPTION:YOW is LOPC’s ministry for 5th–8th grade youth and meets on Wednesday evenings in CLC 201 from 6:00–7:30 p.m. with an optional dinner for $5 in the Davies Room at 5:30 p.m.
URL:https://lopc.org/event/yow-youth-on-wednesday/2026-06-17/
CATEGORIES:Youth Ministry
END:VEVENT
BEGIN:VEVENT
DTSTART;TZID=America/Los_Angeles:20260621T103000
DTEND;TZID=America/Los_Angeles:20260621T113000
DTSTAMP:20260419T085808
CREATED:20240729T220456Z
LAST-MODIFIED:20260326T212149Z
UID:40704-1782037800-1782041400@lopc.org
SUMMARY:Youth Alive
DESCRIPTION:Sunday Mornings\, 10:30 a.m. in CLC 201  \nYouth Alive! is back for the 2025-2026 school year. Youth in 5th–8th grade take part in fun games\, activities\, and Bible-based discussions relevant to their lives while connecting with peers. Students learn about how God has connected with people in Scripture and how we continue to see God at work in our lives today.
URL:https://lopc.org/event/youth-alive-3/2026-06-21/
CATEGORIES:Youth Ministry
END:VEVENT
END:VCALENDAR