BEGIN:VCALENDAR
VERSION:2.0
PRODID:-//Lafayette-Orinda Presbyterian Church - ECPv6.15.4//NONSGML v1.0//EN
CALSCALE:GREGORIAN
METHOD:PUBLISH
X-ORIGINAL-URL:https://lopc.org
X-WR-CALDESC:Events for Lafayette-Orinda Presbyterian Church
REFRESH-INTERVAL;VALUE=DURATION:PT1H
X-Robots-Tag:noindex
X-PUBLISHED-TTL:PT1H
BEGIN:VTIMEZONE
TZID:America/Los_Angeles
BEGIN:DAYLIGHT
TZOFFSETFROM:-0800
TZOFFSETTO:-0700
TZNAME:PDT
DTSTART:20260308T100000
END:DAYLIGHT
BEGIN:STANDARD
TZOFFSETFROM:-0700
TZOFFSETTO:-0800
TZNAME:PST
DTSTART:20261101T090000
END:STANDARD
END:VTIMEZONE
BEGIN:VEVENT
DTSTART;VALUE=DATE:20260603
DTEND;VALUE=DATE:20260704
DTSTAMP:20260423T114919
CREATED:20260410T220147Z
LAST-MODIFIED:20260410T220147Z
UID:42667-1780444800-1783123199@lopc.org
SUMMARY:Faith250: A Community Celebration of our Country's 250th Anniversary
DESCRIPTION:Wednesdays\, June 3 and June 10 at Temple Isaiah\, 7:00-8:30 p.m.\nWednesdays\, June 17 and 24 at Lafayette-Orinda Presbyterian Church\, 7:00-8:30 p.m.\nFriday\, July 3: Community Potluck and Interfaith Service at Temple Isaiah\, 6:00-8:30 p.m.\nRegister by May 22 \nLafayette-Orinda Presbyterian Church and Temple Isaiah are partnering to host a multi-week commemoration of the 250th year of America for congregations in our community. We all know these are divisive and bitter times. This program\, faith250\, invites us to build a more robust\, healthy\, and interconnected interfaith and civic community. Clusters of congregations across the country will be participating. \nOn each Wednesday evening in June\, we will explore one of four foundational texts from American history: \n\nThe Declaration of Independence\nFrederick Douglass’ “What to the Slave is the Fourth of July?”\nThe New Colossus by Emma Lazarus\nAmerica the Beautiful by Katharine Lee Bates\n\nAn expert will help frame each text for us. Then we will gather in intentionally-created small groups.  During these conversations\, we will explore the texts from our diverse perspectives\, articulate the values we share\, deepen our relationships\, and reflect on our role as people of faith in this challenging moment. \nPlan to join your neighbors in this once-in-a generation opportunity! To read more about the program\, visit faith250.org. \nREGISTER HERE
URL:https://lopc.org/event/faith250-a-community-celebration-of-our-countrys-250th-anniversary/
CATEGORIES:latest,Registrations,Worship
ATTACH;FMTTYPE=image/jpeg:https://lopc.org/wp-content/uploads/2026/04/Faith250-logo.jpeg
END:VEVENT
END:VCALENDAR