BEGIN:VCALENDAR
VERSION:2.0
PRODID:-//Lafayette-Orinda Presbyterian Church - ECPv6.15.4//NONSGML v1.0//EN
CALSCALE:GREGORIAN
METHOD:PUBLISH
X-WR-CALNAME:Lafayette-Orinda Presbyterian Church
X-ORIGINAL-URL:https://lopc.org
X-WR-CALDESC:Events for Lafayette-Orinda Presbyterian Church
REFRESH-INTERVAL;VALUE=DURATION:PT1H
X-Robots-Tag:noindex
X-PUBLISHED-TTL:PT1H
BEGIN:VTIMEZONE
TZID:America/Los_Angeles
BEGIN:DAYLIGHT
TZOFFSETFROM:-0800
TZOFFSETTO:-0700
TZNAME:PDT
DTSTART:20260308T100000
END:DAYLIGHT
BEGIN:STANDARD
TZOFFSETFROM:-0700
TZOFFSETTO:-0800
TZNAME:PST
DTSTART:20261101T090000
END:STANDARD
END:VTIMEZONE
BEGIN:VEVENT
DTSTART;TZID=America/Los_Angeles:20260516T110000
DTEND;TZID=America/Los_Angeles:20260516T130000
DTSTAMP:20260423T061622
CREATED:20230914T210422Z
LAST-MODIFIED:20260421T223537Z
UID:42131-1778929200-1778936400@lopc.org
SUMMARY:Love Does: Volunteer with Us - LOPC Work Days at the Food Bank
DESCRIPTION:We’re inviting you to join us by volunteering at the Food Bank of Contra Costa and Solano! By working together (up to 20 of us)\, we’ll sort\, box\, and bag food to provide for those in our community facing hunger. This is an opportunity to serve those in need while building connections at LOPC. \nHere’s how you can help: \n\nWhen: Saturday afternoons\n\nSaturday May 16\, 11:00 am – 1:00 pm\nSaturday June 27\, 11:00 am – 1:00 pm\nSaturday July 11\, 1:30 – 3:30 pm\nSaturday August 15\, 11:00 am – 1:00 pm\n\n\nWhat we do: Warehouse Volunteers – Sort and box food donations\, bag fresh produce\, and ensure everything is ready for distribution.\nWhat to wear: Wear comfortable clothes\, long pants are recommended but not required (jeans are great!). The warehouse does not have heat or a/c\, layers are encouraged.\nAge requirements: Age Minimum (with Adult): 11+\, Minimum Age:16+\nWhere: Concord Warehouse\, 4010 Nelson Avenue. Parking is limited\, so carpooling is a great idea!\n\nWhy it matters: The Food Bank serves over 390\,000 people each month\, and our volunteer support is critical to this mission. Your time and effort directly help those in Contra Costa and Solano counties who are struggling to put food on the table. \nReady to make a difference? Click HERE to sign up now and help us fight hunger! \nQuestions? Contact Michelle Browning.
URL:https://lopc.org/event/food-bank-work-day/2026-05-16/
CATEGORIES:latest,Love Does,Mission,Registrations
ATTACH;FMTTYPE=image/jpeg:https://lopc.org/wp-content/uploads/2022/06/FoodBankLogo.jpg
END:VEVENT
BEGIN:VEVENT
DTSTART;TZID=America/Los_Angeles:20260520T083000
DTEND;TZID=America/Los_Angeles:20260520T120000
DTSTAMP:20260423T061622
CREATED:20260219T013759Z
LAST-MODIFIED:20260219T015401Z
UID:42114-1779265800-1779278400@lopc.org
SUMMARY:Love Does: Volunteer with us - Food Pantry Warehouse Volunteer at MCC!
DESCRIPTION:Food Pantry Warehouse Volunteer at MCC \nWe’re looking for volunteers to assist with Monument Crisis Center’s Food Distribution Program at MCC\, 1990 Market Street\, Concord. Responsibilities vary as needed and may include sorting food\, retrieving carts\, helping clients carry groceries to their cars\, and other tasks that support the flow of distribution. \nVolunteers should be comfortable standing for up to four hours and moving throughout their shift. \nCONFIRMED DATES: \n\nTUESDAY MARCH 17\, 8:30 – 12:00 PM\nWEDNESDAY APRIL 22\, 8:30 – 12:00 PM\nWEDNESDAY MAY 20\, 8:30 – 12:00 PM\nWEDNESDAY JUNE 10\, 8:30 – 12:00 PM\n\nQuestions? Contact Michelle Browning. \nThank you for showing up for our neighbors and putting love into action! \nRegister Today!
URL:https://lopc.org/event/love-does-volunteer-with-us-food-pantry-warehouse-volunteer-at-mcc/2026-05-20/
CATEGORIES:Love Does,Mission,Registrations
ATTACH;FMTTYPE=image/jpeg:https://lopc.org/wp-content/uploads/2026/01/Main-logo-LOVE-DOES-3.jpg
END:VEVENT
BEGIN:VEVENT
DTSTART;TZID=America/Los_Angeles:20260610T083000
DTEND;TZID=America/Los_Angeles:20260610T120000
DTSTAMP:20260423T061622
CREATED:20260219T013759Z
LAST-MODIFIED:20260219T015401Z
UID:42115-1781080200-1781092800@lopc.org
SUMMARY:Love Does: Volunteer with us - Food Pantry Warehouse Volunteer at MCC!
DESCRIPTION:Food Pantry Warehouse Volunteer at MCC \nWe’re looking for volunteers to assist with Monument Crisis Center’s Food Distribution Program at MCC\, 1990 Market Street\, Concord. Responsibilities vary as needed and may include sorting food\, retrieving carts\, helping clients carry groceries to their cars\, and other tasks that support the flow of distribution. \nVolunteers should be comfortable standing for up to four hours and moving throughout their shift. \nCONFIRMED DATES: \n\nTUESDAY MARCH 17\, 8:30 – 12:00 PM\nWEDNESDAY APRIL 22\, 8:30 – 12:00 PM\nWEDNESDAY MAY 20\, 8:30 – 12:00 PM\nWEDNESDAY JUNE 10\, 8:30 – 12:00 PM\n\nQuestions? Contact Michelle Browning. \nThank you for showing up for our neighbors and putting love into action! \nRegister Today!
URL:https://lopc.org/event/love-does-volunteer-with-us-food-pantry-warehouse-volunteer-at-mcc/2026-06-10/
CATEGORIES:Love Does,Mission,Registrations
ATTACH;FMTTYPE=image/jpeg:https://lopc.org/wp-content/uploads/2026/01/Main-logo-LOVE-DOES-3.jpg
END:VEVENT
BEGIN:VEVENT
DTSTART;TZID=America/Los_Angeles:20260627T110000
DTEND;TZID=America/Los_Angeles:20260627T130000
DTSTAMP:20260423T061622
CREATED:20230914T210422Z
LAST-MODIFIED:20260421T223537Z
UID:42132-1782558000-1782565200@lopc.org
SUMMARY:Love Does: Volunteer with Us - LOPC Work Days at the Food Bank
DESCRIPTION:We’re inviting you to join us by volunteering at the Food Bank of Contra Costa and Solano! By working together (up to 20 of us)\, we’ll sort\, box\, and bag food to provide for those in our community facing hunger. This is an opportunity to serve those in need while building connections at LOPC. \nHere’s how you can help: \n\nWhen: Saturday afternoons\n\nSaturday May 16\, 11:00 am – 1:00 pm\nSaturday June 27\, 11:00 am – 1:00 pm\nSaturday July 11\, 1:30 – 3:30 pm\nSaturday August 15\, 11:00 am – 1:00 pm\n\n\nWhat we do: Warehouse Volunteers – Sort and box food donations\, bag fresh produce\, and ensure everything is ready for distribution.\nWhat to wear: Wear comfortable clothes\, long pants are recommended but not required (jeans are great!). The warehouse does not have heat or a/c\, layers are encouraged.\nAge requirements: Age Minimum (with Adult): 11+\, Minimum Age:16+\nWhere: Concord Warehouse\, 4010 Nelson Avenue. Parking is limited\, so carpooling is a great idea!\n\nWhy it matters: The Food Bank serves over 390\,000 people each month\, and our volunteer support is critical to this mission. Your time and effort directly help those in Contra Costa and Solano counties who are struggling to put food on the table. \nReady to make a difference? Click HERE to sign up now and help us fight hunger! \nQuestions? Contact Michelle Browning.
URL:https://lopc.org/event/food-bank-work-day/2026-06-27/
CATEGORIES:latest,Love Does,Mission,Registrations
ATTACH;FMTTYPE=image/jpeg:https://lopc.org/wp-content/uploads/2022/06/FoodBankLogo.jpg
END:VEVENT
BEGIN:VEVENT
DTSTART;TZID=America/Los_Angeles:20260711T133000
DTEND;TZID=America/Los_Angeles:20260711T153000
DTSTAMP:20260423T061622
CREATED:20230914T210422Z
LAST-MODIFIED:20230914T210422Z
UID:42730-1783776600-1783783800@lopc.org
SUMMARY:Love Does: Volunteer with Us - LOPC Work Days at the Food Bank
DESCRIPTION:We’re inviting you to join us by volunteering at the Food Bank of Contra Costa and Solano! By working together (up to 20 of us)\, we’ll sort\, box\, and bag food to provide for those in our community facing hunger. This is an opportunity to serve those in need while building connections at LOPC. \nHere’s how you can help: \n\nWhen: Saturday afternoons\n\nSaturday May 16\, 11:00 am – 1:00 pm\nSaturday June 27\, 11:00 am – 1:00 pm\nSaturday July 11\, 1:30 – 3:30 pm\nSaturday August 15\, 11:00 am – 1:00 pm\n\n\nWhat we do: Warehouse Volunteers – Sort and box food donations\, bag fresh produce\, and ensure everything is ready for distribution.\nWhat to wear: Wear comfortable clothes\, long pants are recommended but not required (jeans are great!). The warehouse does not have heat or a/c\, layers are encouraged.\nAge requirements: Age Minimum (with Adult): 11+\, Minimum Age:16+\nWhere: Concord Warehouse\, 4010 Nelson Avenue. Parking is limited\, so carpooling is a great idea!\n\nWhy it matters: The Food Bank serves over 390\,000 people each month\, and our volunteer support is critical to this mission. Your time and effort directly help those in Contra Costa and Solano counties who are struggling to put food on the table. \nReady to make a difference? Click HERE to sign up now and help us fight hunger! \nQuestions? Contact Michelle Browning.
URL:https://lopc.org/event/food-bank-work-day/2026-07-11/
CATEGORIES:latest,Love Does,Mission,Registrations
ATTACH;FMTTYPE=image/jpeg:https://lopc.org/wp-content/uploads/2022/06/FoodBankLogo.jpg
END:VEVENT
BEGIN:VEVENT
DTSTART;TZID=America/Los_Angeles:20260815T110000
DTEND;TZID=America/Los_Angeles:20260815T130000
DTSTAMP:20260423T061622
CREATED:20230914T210422Z
LAST-MODIFIED:20230914T210422Z
UID:42731-1786791600-1786798800@lopc.org
SUMMARY:Love Does: Volunteer with Us - LOPC Work Days at the Food Bank
DESCRIPTION:We’re inviting you to join us by volunteering at the Food Bank of Contra Costa and Solano! By working together (up to 20 of us)\, we’ll sort\, box\, and bag food to provide for those in our community facing hunger. This is an opportunity to serve those in need while building connections at LOPC. \nHere’s how you can help: \n\nWhen: Saturday afternoons\n\nSaturday May 16\, 11:00 am – 1:00 pm\nSaturday June 27\, 11:00 am – 1:00 pm\nSaturday July 11\, 1:30 – 3:30 pm\nSaturday August 15\, 11:00 am – 1:00 pm\n\n\nWhat we do: Warehouse Volunteers – Sort and box food donations\, bag fresh produce\, and ensure everything is ready for distribution.\nWhat to wear: Wear comfortable clothes\, long pants are recommended but not required (jeans are great!). The warehouse does not have heat or a/c\, layers are encouraged.\nAge requirements: Age Minimum (with Adult): 11+\, Minimum Age:16+\nWhere: Concord Warehouse\, 4010 Nelson Avenue. Parking is limited\, so carpooling is a great idea!\n\nWhy it matters: The Food Bank serves over 390\,000 people each month\, and our volunteer support is critical to this mission. Your time and effort directly help those in Contra Costa and Solano counties who are struggling to put food on the table. \nReady to make a difference? Click HERE to sign up now and help us fight hunger! \nQuestions? Contact Michelle Browning.
URL:https://lopc.org/event/food-bank-work-day/2026-08-15/
CATEGORIES:latest,Love Does,Mission,Registrations
ATTACH;FMTTYPE=image/jpeg:https://lopc.org/wp-content/uploads/2022/06/FoodBankLogo.jpg
END:VEVENT
END:VCALENDAR