BEGIN:VCALENDAR
VERSION:2.0
PRODID:-//Lafayette-Orinda Presbyterian Church - ECPv6.15.4//NONSGML v1.0//EN
CALSCALE:GREGORIAN
METHOD:PUBLISH
X-WR-CALNAME:Lafayette-Orinda Presbyterian Church
X-ORIGINAL-URL:https://lopc.org
X-WR-CALDESC:Events for Lafayette-Orinda Presbyterian Church
REFRESH-INTERVAL;VALUE=DURATION:PT1H
X-Robots-Tag:noindex
X-PUBLISHED-TTL:PT1H
BEGIN:VTIMEZONE
TZID:America/Los_Angeles
BEGIN:DAYLIGHT
TZOFFSETFROM:-0800
TZOFFSETTO:-0700
TZNAME:PDT
DTSTART:20220313T100000
END:DAYLIGHT
BEGIN:STANDARD
TZOFFSETFROM:-0700
TZOFFSETTO:-0800
TZNAME:PST
DTSTART:20221106T090000
END:STANDARD
END:VTIMEZONE
BEGIN:VEVENT
DTSTART;VALUE=DATE:20221106
DTEND;VALUE=DATE:20221219
DTSTAMP:20260420T161335
CREATED:20221024T203814Z
LAST-MODIFIED:20250922T022051Z
UID:30144-1667692800-1671407999@lopc.org
SUMMARY:Children's Choir
DESCRIPTION:Sundays in November and December following worship. \nChildren ages 6 – 12 can sign up to join LOPC’s Children’s Choir! All experience levels are welcome. \nRehearsals will be held Sundays in November and December following the service (11:10 – 11:50 a.m.) in CLC Room 205. The choir will sing during the Christmas Eve family services on December 24 (3:00 p.m. and 4:30 p.m.). \nregister here
URL:https://lopc.org/event/childrens-choir-2/2022-11-06/
CATEGORIES:Children's Ministry
END:VEVENT
END:VCALENDAR